BEGIN:VCALENDAR
PRODID:-//eluceo/ical//2.0/EN
VERSION:2.0
CALSCALE:GREGORIAN
BEGIN:VEVENT
UID:614a2068b7356ff8e4257e9ce0fe9d45
DTSTAMP:20260421T011831Z
SUMMARY:Everyone is Welcome
DESCRIPTION:Jewish Federation of West-Central New Jersey\nCommunity Calenda
 r\nhttps://jfedwcnj.org/calendar/everyone-is-welcome-\n\nEveryone is Welco
 me: How to be sensitivite to and understand the evolving language of gend
 er identity and sexuality\n\nLanguage around sexual identity evolves rapid
 ly\, and can be difficult to understand and use.\n\nJoin us for a workshop
  on creating a welcoming environment for every patient.\n\n \n\nThursday\
 , Jan. 12th at 7pm\n\n775 Talamini Road\, Bridgewater\, NJ 08807\n\nOur pr
 esenter for the evening is HiTops\, an organization with expertise in educ
 ating and supporting school districts\, or...
DTSTART;TZID=America/New_York:20230112T190000
DTEND;TZID=America/New_York:20230112T210000
END:VEVENT
END:VCALENDAR
