BEGIN:VCALENDAR
PRODID:-//eluceo/ical//2.0/EN
VERSION:2.0
CALSCALE:GREGORIAN
BEGIN:VEVENT
UID:80484b7fbb43c382e9d2208990f1f99e
DTSTAMP:20260422T163300Z
SUMMARY:Every Life Has a Story\, Pass It On
DESCRIPTION:Jewish Federation of West-Central New Jersey\nCommunity Calenda
 r\nhttps://jfedwcnj.org/calendar/every-life-has-a-story-pass-it-on-1538073
 757\n\nPreserve your Jewish legacy and share the stories of your life. Wha
 t better way than to leave behind a book for future generations to cherish
  and value. Join us for an entertaining and educations presentation and di
 scussion.
DTSTART;TZID=America/New_York:20181018T190000
DTEND;TZID=America/New_York:20181018T210000
END:VEVENT
END:VCALENDAR
