BEGIN:VCALENDAR
PRODID:-//eluceo/ical//2.0/EN
VERSION:2.0
CALSCALE:GREGORIAN
BEGIN:VEVENT
UID:a3ac0dd09ab98d518401f4b744d08f2e
DTSTAMP:20260423T022516Z
SUMMARY:ETTY: AN INSPIRING ONE-WOMAN SHOW WITH SUSAN STEIN (Online)
DESCRIPTION:Jewish Federation of West-Central New Jersey\nCommunity Calenda
 r\nhttps://jfedwcnj.org/calendar/etty-an-inspiring-one-woman-show-with-sus
 an-stein-online\n\nETTY: AN INSPIRING ONE-WOMAN SHOW WITH SUSAN STEIN\n\nF
 riday\, November 3rd\, 10 am - 11:45 am (Online)\n\nEtty Hillesum is a you
 ng Jewish Dutch woman writing diaries in Amsterdam during the Second World
  War. In these diaries and later\, her letters from Westerbork concentrati
 on camp\, Etty bears witness to what it means to be human and commits hers
 elf to a radical choice: not to hate\, even as she opens her heart to the 
 horrors unfolding around her. She wrestles to write about the life she is 
 liv...
DTSTART;TZID=America/New_York:20231103T100000
DTEND;TZID=America/New_York:20231103T114500
END:VEVENT
END:VCALENDAR
