BEGIN:VCALENDAR
PRODID:-//eluceo/ical//2.0/EN
VERSION:2.0
CALSCALE:GREGORIAN
BEGIN:VEVENT
UID:60c1cdff360c7393efaa54422add6476
DTSTAMP:20260421T071403Z
SUMMARY:ETTY: AN INSPIRING ONE-WOMAN SHOW WITH SUSAN STEIN
DESCRIPTION:Jewish Federation of West-Central New Jersey\nCommunity Calenda
 r\nhttps://jfedwcnj.org/calendar/etty-an-inspiring-one-woman-show-with-sus
 an-stein\n\nETTY: AN INSPIRING ONE-WOMAN SHOW WITH SUSAN STEIN\n\nThursday
 \, November 2nd\, 7 pm - 8:45 pm (In-person)\n\nAn in-person\, Community-W
 ide Kristallnacht Remembrance at the RVCC Nash Theater\n\nEtty Hillesum is
  a young Jewish Dutch woman writing diaries in Amsterdam during the Second
  World War. In these diaries and later\, her letters from Westerbork conce
 ntration camp\, Etty bears witness to what it means to be human and commit
 s herself to a radical choice: not to hate\, even as she opens her hear...
DTSTART;TZID=America/New_York:20231102T070000
DTEND;TZID=America/New_York:20231102T084500
END:VEVENT
END:VCALENDAR
