BEGIN:VCALENDAR
PRODID:-//eluceo/ical//2.0/EN
VERSION:2.0
CALSCALE:GREGORIAN
BEGIN:VEVENT
UID:2e0b75f57d79814c9733386cccc3dbb0
DTSTAMP:20260422T160110Z
SUMMARY:ESTHER SAFRAN FOER\, I WANT YOU TO KNOW WE’RE STILL HERE
DESCRIPTION:Jewish Federation of West-Central New Jersey\nCommunity Calenda
 r\nhttps://jfedwcnj.org/calendar/esther-safran-foer-i-want-you-to-know-wer
 e-still-here-1600780466\n\nTickets: Free virtual ticket or one virtual tic
 ket and one copy of book for $35 (includes shipping)\n\n Esther Safran Foe
 r grew up in a home where the past was too terrible to speak of. The child
  of parents who were each the sole survivors of their respective families\
 , for Esther the Holocaust loomed in the backdrop of daily life\, felt but
  never discussed. The result was a childhood marked by painful silences an
 d continued tragedy. Even as she built a successful career\, married\, and
  raised...
DTSTART;TZID=America/New_York:20201109T080000
DTEND;TZID=America/New_York:20201109T090000
END:VEVENT
END:VCALENDAR
