BEGIN:VCALENDAR
PRODID:-//eluceo/ical//2.0/EN
VERSION:2.0
CALSCALE:GREGORIAN
BEGIN:VEVENT
UID:4e440577caa0486521fa710bfaf593af
DTSTAMP:20260422T211832Z
SUMMARY:ERIC FURDA AND JACQUES STEINBERG\, THE COLLEGE CONVERSATION
DESCRIPTION:Jewish Federation of West-Central New Jersey\nCommunity Calenda
 r\nhttps://jfedwcnj.org/calendar/eric-furda-and-jacques-steinberg-the-coll
 ege-conversation-1600352896\n\nFrom an Ivy League dean and a college admis
 sions expert\, a guide to help parents support their children as they navi
 gate their way to college.\n\nThe College Conversation is a comprehensive 
 resource for mapping the path through the college application process that
  provides practical advice and reassurance to keep both anxious parents an
 d confused children sane and grounded. Rather than adding to the existing 
 canon of “How to Get In” college guides or rankings\, Eric Furda and J
 acques...
DTSTART;TZID=America/New_York:20201005T200000
DTEND;TZID=America/New_York:20201005T210000
END:VEVENT
END:VCALENDAR
