BEGIN:VCALENDAR
PRODID:-//eluceo/ical//2.0/EN
VERSION:2.0
CALSCALE:GREGORIAN
BEGIN:VEVENT
UID:2336073ecd63cf14b48fd1fadbf7f5cc
DTSTAMP:20260423T093003Z
SUMMARY:Erev Tisha B'Av Service
DESCRIPTION:Jewish Federation of West-Central New Jersey\nCommunity Calenda
 r\nhttps://jfedwcnj.org/calendar/erev-tisha-bav-service-1498618209\n\nTish
 a B'Av is an annual fast day in Judaism\, named for the ninth day (Tisha) 
 of the month of Av in the Hebrew calendar. The fast commemorates the destr
 uction of both the First Temple and Second Temple in Jerusalem\, which occ
 urred about 655 years apart\, but on the same Hebrew calendar date. Tisha 
 B'Av is never observed on Shabbat. If the 9th of Av falls on a Saturday\, 
 the fast is postponed until the 10th of Av.
DTSTART;TZID=America/New_York:20170731T203000
DTEND;TZID=America/New_York:20170731T220000
END:VEVENT
END:VCALENDAR
