BEGIN:VCALENDAR
PRODID:-//eluceo/ical//2.0/EN
VERSION:2.0
CALSCALE:GREGORIAN
BEGIN:VEVENT
UID:1c2b37710c6f6ace8c971fa91ed57664
DTSTAMP:20260423T195952Z
SUMMARY:Erev Shavuot: Tikkun (learing for adults) & Youth Programming for a
 ll ages
DESCRIPTION:Jewish Federation of West-Central New Jersey\nCommunity Calenda
 r\nhttps://jfedwcnj.org/calendar/erev-shavuot-tikkun-learing-for-adults-yo
 uth-programming-for-all-ages\n\nTemple Sholom in cooperation with Temple B
 eth El\, Hillsborough\, and CKI Bound Brook\n\nWe all stood together to re
 ceive Torah at Mt. Sinai... Come join friends old and new from across the 
 community in nighttime learning with teachers from across the community.\n
 \nQuestions? Contact Rabbi Dan Selsberg\, rabbidan@temple-sholom.net\, or 
 Ilene Cohen\, ilenecohen@temple-sholom.net\; 908-722-1339 
DTSTART;TZID=America/New_York:20200528T190000
DTEND;TZID=America/New_York:20200528T210000
END:VEVENT
END:VCALENDAR
