BEGIN:VCALENDAR
PRODID:-//eluceo/ical//2.0/EN
VERSION:2.0
CALSCALE:GREGORIAN
BEGIN:VEVENT
UID:b675d2dffb4db3374663cca5e3526965
DTSTAMP:20260421T015246Z
SUMMARY:Erev Shabbat Service with guest speakers from the Faces of October 
 Seventh
DESCRIPTION:Jewish Federation of West-Central New Jersey\nCommunity Calenda
 r\nhttps://jfedwcnj.org/calendar/erev-shabbat-service-with-guest-speakers-
 from-the-faces-of-october-seventh-1709310964\n\nOur Erev Shabbat Service o
 n Friday\, March 15th will be unique and powerful.  We will be hosting gue
 st speakers from the Faces of October Seventh Foundation. Our guests will 
 share their personal experiences and stories on that day. We invite the co
 mmunity to come and join us.
DTSTART;TZID=America/New_York:20240315T190000
DTEND;TZID=America/New_York:20240315T210000
END:VEVENT
END:VCALENDAR
