BEGIN:VCALENDAR
PRODID:-//eluceo/ical//2.0/EN
VERSION:2.0
CALSCALE:GREGORIAN
BEGIN:VEVENT
UID:8d3951674eb41e54ed2f44765bfa7ce6
DTSTAMP:20260422T160742Z
SUMMARY:Embroidery and Sacred Text: New Designs in Judaic Needlework
DESCRIPTION:Jewish Federation of West-Central New Jersey\nCommunity Calenda
 r\nhttps://jfedwcnj.org/calendar/embroidery-and-sacred-text-new-designs-in
 -judaic-needlework\n\nEmbroidery and Sacred Text introduces nineteen new d
 esigns in Judaic and\nBiblical embroidery\, in stunning photographs of Rac
 hel Braun’s original and colorful needlework. The author has embellished
  sacred texts from liturgy\, piyyut (prayerful poetry) and Bible in creat
 ing her designs\, in embroidery canvasses stitched in ‘blackwork’ embr
 oidery technique. Erudite and insightful commentary accompanying each piec
 e adds a spiritual dimension for appreciating the designs and for underst
 andi...
DTSTART;TZID=America/New_York:20171119T140000
DTEND;TZID=America/New_York:20171119T160000
END:VEVENT
END:VCALENDAR
