BEGIN:VCALENDAR
PRODID:-//eluceo/ical//2.0/EN
VERSION:2.0
CALSCALE:GREGORIAN
BEGIN:VEVENT
UID:84ac03d18bcbdd4431c06043500c9c66
DTSTAMP:20260420T135639Z
SUMMARY:Edwin Black
DESCRIPTION:Jewish Federation of West-Central New Jersey\nCommunity Calenda
 r\nhttps://jfedwcnj.org/calendar/edwin-black-1416327202\n\nEdwin Black is 
 the award-winning\, NY Times bestselling investigative author of 120 award
 -winning editions in 65 countries\, as well as scores of newspapers and ma
 gazines. His books include IBM and the Holocaust (exploring IBM's strategi
 c alliance with Nazi Germany) and Financing the Flames (an analysis of the
  use of tax-exempt and public monies to systematically destabilize the IDF
  and finance terrorists in Israel).
DTSTART;TZID=America/New_York:20150319T200000
DTEND;TZID=America/New_York:20150319T220000
END:VEVENT
END:VCALENDAR
