BEGIN:VCALENDAR
PRODID:-//eluceo/ical//2.0/EN
VERSION:2.0
CALSCALE:GREGORIAN
BEGIN:VEVENT
UID:9ede2dad7f237d632f1aa9a1db5b8aad
DTSTAMP:20260422T002747Z
SUMMARY:Educators Seminar Theme: Genocide Prevention through Education
DESCRIPTION:Jewish Federation of West-Central New Jersey\nCommunity Calenda
 r\nhttps://jfedwcnj.org/calendar/educators-seminar-theme-genocide-preventi
 on-through-education\n\nThe Institute for Holocaust and Genocide StudiesÂ 
 Educators Seminar\n\nTheme: Genocide Prevention through Education\nWednesd
 ay\, November 2\, 2016\n4:00 pm to 7 pm\nConference Center at RVCC\n\nÂ \n
 \nThree Workshop Presentations Â \n\n3 Professional Development Hours Incl
 uded\n\n4:00 â€“ 5:00 pmÂ Â Â  Margit Feldman\, Holocaust Survivor from Hu
 ngary\nÂ Author of: Margit\, A teenager's journey through the Holocaust an
 d beyond \nScreening of Documentary: Margit- Not A23029\n\nâ€‹5:00 â€“ 5:3
 0 pmÂ Â...
DTSTART;TZID=America/New_York:20161102T160000
DTEND;TZID=America/New_York:20161102T190000
END:VEVENT
END:VCALENDAR
