BEGIN:VCALENDAR
PRODID:-//eluceo/ical//2.0/EN
VERSION:2.0
CALSCALE:GREGORIAN
BEGIN:VEVENT
UID:8c49443b12a575f37c24eb77abd36176
DTSTAMP:20260422T124026Z
SUMMARY:EAT SOMETHING – RACHEL LEVIN CO-AUTHOR
DESCRIPTION:Jewish Federation of West-Central New Jersey\nCommunity Calenda
 r\nhttps://jfedwcnj.org/calendar/eat-something--rachel-levin-co-author-160
 0780963\n\nFrom nationally recognized Jewish brand Wise Sons\, the cookboo
 k Eat Something features over 60 recipes for salads\, soups\, baked goods\
 , holiday dishes\, and more.\n\n \n\nThis long-awaited cookbook (the first
  one for Wise Sons!) is packed with homey recipes and relatable humor\; it
  is as much a delicious\, lighthearted\, and nostalgic cookbook as it is a
  lively celebration of Jewish culture.\n\nStemming from the thesis that Je
 ws eat by occasion (and with enthusiasm)\, the book is organized into 19..
 .
DTSTART;TZID=America/New_York:20201111T190000
DTEND;TZID=America/New_York:20201111T210000
END:VEVENT
END:VCALENDAR
