BEGIN:VCALENDAR
PRODID:-//eluceo/ical//2.0/EN
VERSION:2.0
CALSCALE:GREGORIAN
BEGIN:VEVENT
UID:5368a3cf5d9039e13686c306b173e2b2
DTSTAMP:20260423T161451Z
SUMMARY:East Coast Professional Wrestling
DESCRIPTION:Jewish Federation of West-Central New Jersey\nCommunity Calenda
 r\nhttps://jfedwcnj.org/calendar/east-coast-professional-wrestling\n\nFeat
 uring WWE Hall of Famers "Hacksaw" Jim Duggan and Greg "The Hammer" Valent
 ine.\n \n\nDoors open 6:30pm and first Bell is at 7:30pm.  \nEight Match
 es\nRegistration Fee: $20\nThe snack bar will be open to purchase a limite
 d menu of items.\nAll proceeds will benefit the Special Needs Department.
DTSTART;TZID=America/New_York:20170429T193000
DTEND;TZID=America/New_York:20170429T213000
END:VEVENT
END:VCALENDAR
