BEGIN:VCALENDAR
PRODID:-//eluceo/ical//2.0/EN
VERSION:2.0
CALSCALE:GREGORIAN
BEGIN:VEVENT
UID:e2580f5b1821a64969eba8d3fd1785a2
DTSTAMP:20260424T023126Z
SUMMARY:Drive In Concert: Featuring Trane Stevens
DESCRIPTION:Jewish Federation of West-Central New Jersey\nCommunity Calenda
 r\nhttps://jfedwcnj.org/calendar/drive-in-concert-featuring-trane-stevens-
 1598381929\n\nPlaying your favorite cover music from every genre!\n\nBYO F
 ood and Drink\n• Parking Lot opens at 7 pm\n• Concert from 8 – 10 pm
 \n• $36 per car\n50 Car Spots Available – Max of 6 people per car (ope
 n to ages 21+)\n• $50 per table\n• 10 Picnic Table Spots Available –
  Max of 4 people per table
DTSTART;TZID=America/New_York:20200829T190000
DTEND;TZID=America/New_York:20200829T220000
END:VEVENT
END:VCALENDAR
