BEGIN:VCALENDAR
PRODID:-//eluceo/ical//2.0/EN
VERSION:2.0
CALSCALE:GREGORIAN
BEGIN:VEVENT
UID:e4d3d14744e6fc88de9b95a0ea72b909
DTSTAMP:20260422T165735Z
SUMMARY:Drag Queen Designer Handbag Bingo & Basket Auction
DESCRIPTION:Jewish Federation of West-Central New Jersey\nCommunity Calenda
 r\nhttps://jfedwcnj.org/calendar/drag-queen-designer-handbag-bingo--basket
 -auction-1705576371\n\nThe Bingo portion of the event is SOLD OUT but you 
 can still participate in the Basket Auction! Baskets will be on display a 
 week prior to the Bingo Event. Drag Queen Designer Handbag Bingo and Baske
 t Auction Support the JCC's Special Needs Program! Grab your friends and c
 ome on out for a night full of laughs\, luck\, and beautiful designer bags
 !Tickets are $35 and include a book of 6 rounds of BINGO with 9 BINGO face
 s per round to win designer handbags from Tory Burch\, Kate Spade\, Michae
 l Kors...
DTSTART;TZID=America/New_York:20240307T180000
DTEND;TZID=America/New_York:20240307T210000
END:VEVENT
END:VCALENDAR
