BEGIN:VCALENDAR
PRODID:-//eluceo/ical//2.0/EN
VERSION:2.0
CALSCALE:GREGORIAN
BEGIN:VEVENT
UID:05faeb43e85fa6efa111127995407378
DTSTAMP:20260421T041118Z
SUMMARY:Downsizing and Decluttering
DESCRIPTION:Jewish Federation of West-Central New Jersey\nCommunity Calenda
 r\nhttps://jfedwcnj.org/calendar/downsizing-and-decluttering-1618582047\n\
 nJoin us on Wednesday\, May 6th for a free webinar titled Decluttering and
  Downsizing: Tips for organizing your home or downsizing to smaller living
  space. This webinar will be presented by Stacy Matticoli of Put It There\
 , LLC.\nSpring has arrived and now is the perfect time to start thinking a
 bout organizing and decluttering! Stacy Matticoli is a Certified Organizat
 ion Specialist who helps her clients make better use of their time and spa
 ce. She specializes in residential organizing and senior...
DTSTART;TZID=America/New_York:20210506T130000
DTEND;TZID=America/New_York:20210506T143000
END:VEVENT
END:VCALENDAR
