BEGIN:VCALENDAR
PRODID:-//eluceo/ical//2.0/EN
VERSION:2.0
CALSCALE:GREGORIAN
BEGIN:VEVENT
UID:0b5b931814da5d62ea0d7674694b91fe
DTSTAMP:20260421T212438Z
SUMMARY:Dough
DESCRIPTION:Jewish Federation of West-Central New Jersey\nCommunity Calenda
 r\nhttps://jfedwcnj.org/calendar/dough-1601385744\n\nAn old Jewish baker t
 akes on a young Muslim apprentice to save his failing kosher bakery. When 
 his apprentice's marijuana stash accidentally falls in the mixing dough\, 
 the challah starts flying off the shelves. Dough is a warmhearted and humo
 rous story about overcoming prejudice and finding redemption in unexpected
  places. \n\nFood Item: Challah .. let's get ready for Shabbat!
DTSTART;TZID=America/New_York:20201021T190500
DTEND;TZID=America/New_York:20201021T210000
END:VEVENT
END:VCALENDAR
