BEGIN:VCALENDAR
PRODID:-//eluceo/ical//2.0/EN
VERSION:2.0
CALSCALE:GREGORIAN
BEGIN:VEVENT
UID:06972b7d5e5aa971404cc01ea38641e7
DTSTAMP:20260422T172850Z
SUMMARY:Discovering Our Unconscious Biases-3 part series - Part 3
DESCRIPTION:Jewish Federation of West-Central New Jersey\nCommunity Calenda
 r\nhttps://jfedwcnj.org/calendar/discovering-our-unconscious-biases-3-part
 -series-part-3\n\nPart 3: \n\nWhere do we go from here: hear from leaders
 hip in the Black community and learn what you can do to help create a more
  equitable environment.  \n\n \n\nRegister: www.jfnnj.org/virtualevent
 s 
DTSTART;TZID=America/New_York:20200804T200000
DTEND;TZID=America/New_York:20200804T210000
END:VEVENT
END:VCALENDAR
