BEGIN:VCALENDAR
PRODID:-//eluceo/ical//2.0/EN
VERSION:2.0
CALSCALE:GREGORIAN
BEGIN:VEVENT
UID:ca0b8fa31b44082909061ac8da6c67f0
DTSTAMP:20260424T072934Z
SUMMARY:Discovering Our Unconscious Biases-3 part series - Part 2
DESCRIPTION:Jewish Federation of West-Central New Jersey\nCommunity Calenda
 r\nhttps://jfedwcnj.org/calendar/discovering-our-unconscious-biases-3-part
 -series-part-2\n\nPart 2: \n\nUnconscious Bias and Privilege: An interact
 ive program exploring these terms and concepts.\n\nRegister: www.jfnnj.or
 g/virtualevents 
DTSTART;TZID=America/New_York:20200722T200000
DTEND;TZID=America/New_York:20200722T210000
END:VEVENT
END:VCALENDAR
