BEGIN:VCALENDAR
PRODID:-//eluceo/ical//2.0/EN
VERSION:2.0
CALSCALE:GREGORIAN
BEGIN:VEVENT
UID:5f7794b1a701491dfc8ab975359c1a49
DTSTAMP:20260422T101653Z
SUMMARY:Discovering Our Unconscious Biases-3 part series - Part 1
DESCRIPTION:Jewish Federation of West-Central New Jersey\nCommunity Calenda
 r\nhttps://jfedwcnj.org/calendar/discovering-our-unconscious-biases-3-part
 -series\n\nPart 1: \n\nExplore the History of Jews and Blacks in America:
  Unpack our shared journey. \n\n \n\nRegister: www.jfnnj.org/virtualeve
 nts 
DTSTART;TZID=America/New_York:20200715T200000
DTEND;TZID=America/New_York:20200715T210000
END:VEVENT
END:VCALENDAR
