BEGIN:VCALENDAR
PRODID:-//eluceo/ical//2.0/EN
VERSION:2.0
CALSCALE:GREGORIAN
BEGIN:VEVENT
UID:a3a7af8505dbe7d25fab045023e877cf
DTSTAMP:20260421T142045Z
SUMMARY:DignityGrows PeriodPoverty Awareness Week Event
DESCRIPTION:Jewish Federation of West-Central New Jersey\nCommunity Calenda
 r\nhttps://jfedwcnj.org/calendar/dignity-grows52024\n\nThis PeriodPoverty
  Awareness Week \n\nJoin our chapter of dignitygrows for a hygine and t
 ote packing party & do a mitzvah for our community. The totes will have es
 sential hygiene and menstrual products so our neighbors in need can attend
  school\, go to work\, and participate in community life without interrupt
 ion.\n\n \n\nThursday\, May 30\, 2024\, at 7pm \n\n775 Talamini R
 oad\n\nBridgewater\, NJ 08807\n\n \n\n \n\nFor questions\, please c
 ontact Lauren Edelman at 908-758-...
DTSTART;TZID=America/New_York:20240530T190000
DTEND;TZID=America/New_York:20240530T210000
END:VEVENT
END:VCALENDAR
