BEGIN:VCALENDAR
PRODID:-//eluceo/ical//2.0/EN
VERSION:2.0
CALSCALE:GREGORIAN
BEGIN:VEVENT
UID:726a1bf0e3d9ec90ab7bd0c3ca58eed7
DTSTAMP:20260423T151543Z
SUMMARY:Dignity Grows Packing Event
DESCRIPTION:Jewish Federation of West-Central New Jersey\nCommunity Calenda
 r\nhttps://jfedwcnj.org/calendar/dignity-grows-packing-event\n\nJoin our C
 hapter of Dignity Grows for a Hygiene-tote packing party \n\nThursday\, M
 arch 20th \n\n7pm \n\n775 Talamini Road\, Bridgewater\, NJ \n\nRegister
 /doante at jfedwcnj.org/events\n\n$18 Personal- Hygiene Products \n\n$36 
 Feminine- Hygiene Products \n\n$54 Full- Care Package \n\n \n\nQuestion
 s: Lauren Edelman 908-758-2003 or Ledelman@jfedwcnj.org  
DTSTART;TZID=America/New_York:20250320T190000
DTEND;TZID=America/New_York:20250320T210000
END:VEVENT
END:VCALENDAR
