BEGIN:VCALENDAR
PRODID:-//eluceo/ical//2.0/EN
VERSION:2.0
CALSCALE:GREGORIAN
BEGIN:VEVENT
UID:1434c48e7e41e4a0654821f7bfa69ed3
DTSTAMP:20260421T202320Z
SUMMARY:Dignity Grows Giving Tuesday Packing Party
DESCRIPTION:Jewish Federation of West-Central New Jersey\nCommunity Calenda
 r\nhttps://jfedwcnj.org/calendar/dignity-grows-giving-tuesday-packing-part
 y\n\nThis Giving Tuesday Join us for our Second Annual Packing Palooza\n\n
 Help us pack 900 bags\n\nDignity Grows removes obstacles and empowers our 
 neighbors in need by distributing free\, reusable totes filled with a mont
 h’s supply of personal care products—items not covered by federal assi
 stance.\n\n \n\nDecember 2nd\n\n7pm\n\n775 Talamini Road\, Bridgewater\, 
 NJ\n\nQuestions Contact Lauren Greenberg Lgreenberg@jfedwcnj.org or 908.
 758.2003
DTSTART;TZID=America/New_York:20251202T190000
DTEND;TZID=America/New_York:20251202T210000
END:VEVENT
END:VCALENDAR
