BEGIN:VCALENDAR
PRODID:-//eluceo/ical//2.0/EN
VERSION:2.0
CALSCALE:GREGORIAN
BEGIN:VEVENT
UID:0bb238742dd7f4fb2fa9643c0ac5dfba
DTSTAMP:20260423T211027Z
SUMMARY:Dignity Grows Packing Event
DESCRIPTION:Jewish Federation of West-Central New Jersey\nCommunity Calenda
 r\nhttps://jfedwcnj.org/calendar/dignity-grows\n\nThis Mother's Day\, hono
 r the women in your life. Join the JFedSHAW Chapter of Dignity Grows in 
 the fight against Period Poverty\n\n \n\n$36 Couvert supplies one month o
 f menstrual & hygiene products for 3 members of our community.\n\n\nHygien
 e Tote Packing Event - May 11\, 2023 @ 7 PM\n\nFlemington Jewish Commun
 ity Center\n\n5 Sergeantsville Rd\, Flemington\, NJ\n\nFor questions conta
 ct Lauren Edelman 908-758-2003 or Ledelman@jfedshaw.org \n\n\n 
DTSTART;TZID=America/New_York:20230511T190000
DTEND;TZID=America/New_York:20230511T210000
END:VEVENT
END:VCALENDAR
