BEGIN:VCALENDAR
PRODID:-//eluceo/ical//2.0/EN
VERSION:2.0
CALSCALE:GREGORIAN
BEGIN:VEVENT
UID:60d8f8616e493c4a7204a78320d9ce20
DTSTAMP:20260422T045242Z
SUMMARY:Desert in the Promised Land:  Nature\, Settlement\, and the Politic
 s of Space
DESCRIPTION:Jewish Federation of West-Central New Jersey\nCommunity Calenda
 r\nhttps://jfedwcnj.org/calendar/desert-in-the-promised-land--nature-settl
 ement-and-the-politics-of-space-1566930142\n\n"Desert in the Promised Land
 \," a new book by Prof. Yael Zerubavel\, explores the multiple meanings of
  the desert as both a geographic region in Israel and a symbolic landscape
  in Zionist and Israeli culture. Zerubavel will discuss her book\, which d
 raws on literary\, artistic\, and folkloric sources to examine changing vi
 ews of the desert from the early twentieth century to the present\, sheddi
 ng light on romantic and mythical associations\, settlement and security i
 ssues\, and environmental concern...
DTSTART;TZID=America/New_York:20190912T193000
DTEND;TZID=America/New_York:20190912T210000
END:VEVENT
END:VCALENDAR
