BEGIN:VCALENDAR
PRODID:-//eluceo/ical//2.0/EN
VERSION:2.0
CALSCALE:GREGORIAN
BEGIN:VEVENT
UID:0192004c8e78eedf9989d233383b60ce
DTSTAMP:20260420T040013Z
SUMMARY:Deli Man Movie\, Dinner & Concert at Temple B'nai Shalom -- April 1
 6\, 2016
DESCRIPTION:Jewish Federation of West-Central New Jersey\nCommunity Calenda
 r\nhttps://jfedwcnj.org/calendar/deli-man-movie-dinner--concert-at-temple-
 bnai-shalom----april-16-2016-1457815685\n\nDeli Man Movie\, Dinner & Conce
 rt at Temple B'nai Shalom -- April 16\, 2016 By the 1930s\, New York City 
 alone had at least 1500 kosher and kosher- style delis. Now there are less
  than 24. How did they start? What were the staples of the deli menu? What
  is the legacy and the culture of the deli? Join Temple B’nai Shalom on 
 April 16\, 2016 at 6:00pm to watch the “Deli Man” movie to find out th
 e answers and to go on a nostalgic trip\, not only about delicatessens\, b
 ut also about the migration ...
DTSTART;TZID=America/New_York:20160416T180000
DTEND;TZID=America/New_York:20160416T210000
END:VEVENT
END:VCALENDAR
