BEGIN:VCALENDAR
PRODID:-//eluceo/ical//2.0/EN
VERSION:2.0
CALSCALE:GREGORIAN
BEGIN:VEVENT
UID:c265fd0c6af1b078a568ea23a94f03bd
DTSTAMP:20260421T234044Z
SUMMARY:Defiant Requiem - Community Yom HaShoah Observance
DESCRIPTION:Jewish Federation of West-Central New Jersey\nCommunity Calenda
 r\nhttps://jfedwcnj.org/calendar/defiant-rquiem---community-yom-hashoah-ob
 servance-1616101590\n\nJoin us as we have a community wide event observing
  Yom HaShoah.\nThe documentary film\, Defiant Requiem\, runs 45 minutes an
 d will be followed by a discussion with Maestro Murry Sidlin\, the Preside
 nt and Creative Director of the Foundation.\nDefiant Requiem is a feature-
 length documentary film that tells the extraordinary\, untold story of the
  brave acts of resistance by Jewish prisoners at Theresienstadt (Terezín)
  during World War II. The film highlights a dramatic example of intellectu
 al and...
DTSTART;TZID=America/New_York:20210409T100000
DTEND;TZID=America/New_York:20210409T110000
END:VEVENT
END:VCALENDAR
