BEGIN:VCALENDAR
PRODID:-//eluceo/ical//2.0/EN
VERSION:2.0
CALSCALE:GREGORIAN
BEGIN:VEVENT
UID:eb15b729fafd46d9f2d5afeb745d0c3a
DTSTAMP:20260422T213608Z
SUMMARY:Decorate Your Own Tzedakah Box!
DESCRIPTION:Jewish Federation of West-Central New Jersey\nCommunity Calenda
 r\nhttps://jfedwcnj.org/calendar/decorate-your-own-tzedakah-box-1604077508
 \n\nJoin us via Zoom to decorate tzedakah boxes\n(tzedakah boxes delivered
  before event)\n& learn what's "Jewish" about helping others!\nGreat for g
 rades K-4!\nTo register visit jfedshaw.org/supersunday20\nFor more informa
 tion call Lauren 908-758-2003 or\ne-mail Ledelman@jfedshaw.org
DTSTART;TZID=America/New_York:20201109T150000
DTEND;TZID=America/New_York:20201109T160000
END:VEVENT
END:VCALENDAR
