BEGIN:VCALENDAR
PRODID:-//eluceo/ical//2.0/EN
VERSION:2.0
CALSCALE:GREGORIAN
BEGIN:VEVENT
UID:f89e81a5a4e2058e019df345c834b5b4
DTSTAMP:20260422T101903Z
SUMMARY:David Kirshner Matzo: 35 Recipes for Passover and All Year Long
DESCRIPTION:Jewish Federation of West-Central New Jersey\nCommunity Calenda
 r\nhttps://jfedwcnj.org/calendar/david-kirshner-matzo-35-recipes-for-passo
 ver-and-all-year-long\n\nA cookbook from the preeminent fine Kosher food c
 ompany\, Streit’s\, with Jewish recipes for enjoying matzo during the ei
 ght days of Passover and all year long.\n\nMatzo and the story of its crea
 tion are the centerpiece of both the meals and the observance of Passover\
 ; it is eaten in place of bread and other leavened products for the holida
 y’s eight day duration. David will share 35 recipes from the Streit fami
 ly learning ways to cook with matzo that are so good\, readers will want t
 o make t...
DTSTART;TZID=America/New_York:20180325T133000
DTEND;TZID=America/New_York:20180325T153000
END:VEVENT
END:VCALENDAR
