BEGIN:VCALENDAR
PRODID:-//eluceo/ical//2.0/EN
VERSION:2.0
CALSCALE:GREGORIAN
BEGIN:VEVENT
UID:5228e1e463785acd19ec1263bc0d2d15
DTSTAMP:20260423T085705Z
SUMMARY:Danielle Capalino Healthy Gut\, Flat Stomach
DESCRIPTION:Jewish Federation of West-Central New Jersey\nCommunity Calenda
 r\nhttps://jfedwcnj.org/calendar/danielle-capalino-healthy-gut-flat-stomac
 h\n\nJewish people are notorious for having digestive issues – and we LO
 VE to talk about them! Learn about the right foods to eat. This lecture wi
 ll break down the science so that you can understand it – and implement 
 it easily on your own. \n\nDanielle Capalino is a registered dietitian in
  a private practice in New York City. She wants you to feel great without 
 having to wear an elastic waistband!
DTSTART;TZID=America/New_York:20180510T190000
DTEND;TZID=America/New_York:20180510T210000
END:VEVENT
END:VCALENDAR
