BEGIN:VCALENDAR
PRODID:-//eluceo/ical//2.0/EN
VERSION:2.0
CALSCALE:GREGORIAN
BEGIN:VEVENT
UID:a4fac102bcb946acc5c22b7efbc50b35
DTSTAMP:20260423T053111Z
SUMMARY:Dancing  with the Stars Season 5
DESCRIPTION:Jewish Federation of West-Central New Jersey\nCommunity Calenda
 r\nhttps://jfedwcnj.org/calendar/dancing--with-the-stars-season-5-14779382
 80\n\nDancing with the Stars Season 5 will feature our eight new dancers s
 howing off their dancing skills!  We promise you a fun and entertaining ev
 ening\, with a delicious dinner\, open bar\, the dance competition and ope
 n dancing.  It&rsquo\;s the JCC social event everyone is talking about and
  will be attending! Proceeds from this event support: Special Needs Progra
 ms and Services for children and adults. Services for our seniors\, includ
 ing hot lunches\, exercise\, entertainment and the opportunity for...
DTSTART;TZID=America/New_York:20161112T190000
DTEND;TZID=America/New_York:20161112T220000
END:VEVENT
END:VCALENDAR
