BEGIN:VCALENDAR
PRODID:-//eluceo/ical//2.0/EN
VERSION:2.0
CALSCALE:GREGORIAN
BEGIN:VEVENT
UID:d5cb8538250152175f6c7316abd4d9d6
DTSTAMP:20260421T212122Z
SUMMARY:DALE BERRA\, MY DAD\, YOGI
DESCRIPTION:Jewish Federation of West-Central New Jersey\nCommunity Calenda
 r\nhttps://jfedwcnj.org/calendar/dale-berra-my-dad-yogi-1600780549\n\nEver
 yone knows Yogi Berra. The American icon was the backbone of the New York 
 Yankees through ten World Series Championships\, managed the National Leag
 ue Champion New York Mets in 1973\, and had an ingenious way with words th
 at remains an indelible part of our lexicon. But no one knew him like his 
 family did. My Dad\, Yogi is Dale Berra&rsquo\;s chronicle of the unshakea
 ble bond with his father and an intimate portrait providing a unique persp
 ective on one of the great sports figures of the 20th...
DTSTART;TZID=America/New_York:20201110T080000
DTEND;TZID=America/New_York:20201110T090000
END:VEVENT
END:VCALENDAR
