BEGIN:VCALENDAR
PRODID:-//eluceo/ical//2.0/EN
VERSION:2.0
CALSCALE:GREGORIAN
BEGIN:VEVENT
UID:50a01e544306052c3032ef166d0f1aee
DTSTAMP:20260422T111942Z
SUMMARY:Dale Atkins and Amanda Salzhauer: The Kindness Advantage
DESCRIPTION:Jewish Federation of West-Central New Jersey\nCommunity Calenda
 r\nhttps://jfedwcnj.org/calendar/dale-atkins-and-amanda-salzhauer-the-kind
 ness-advantage\n\nThe Kindness Advantage is a practical and concrete guid
 e for you to equip your child with the skills they need to have a positive
  influence on the world. We all benefit when children are raised with the 
 understanding that they can have an impact by making concious choices. It'
 s never too early to start your child on a path of fulfillment through mea
 ningful connection with others. Designed to be read with children as young
  as four\, the book presents fundamental concepts to weave into your fam..
 .
DTSTART;TZID=America/New_York:20200128T190000
DTEND;TZID=America/New_York:20200128T210000
END:VEVENT
END:VCALENDAR
