BEGIN:VCALENDAR
PRODID:-//eluceo/ical//2.0/EN
VERSION:2.0
CALSCALE:GREGORIAN
BEGIN:VEVENT
UID:fe31ca0142be6ccc8bf2fa5fef3b06b3
DTSTAMP:20260423T043135Z
SUMMARY:Cuba Mission Info Session
DESCRIPTION:Jewish Federation of West-Central New Jersey\nCommunity Calenda
 r\nhttps://jfedwcnj.org/calendar/cuba-mission-info-session\n\nJoin the Jew
 ish Federation of Somerset\, Hunterdon & Warren Counties on a Mission to C
 uba. March 12-19 2023. Come learn more about the mission and ask all your
  questions at an information session on October 27th at 7pm via zoom. \n\
 n 
DTSTART;TZID=America/New_York:20221027T190000
DTEND;TZID=America/New_York:20221027T210000
END:VEVENT
END:VCALENDAR
