BEGIN:VCALENDAR
PRODID:-//eluceo/ical//2.0/EN
VERSION:2.0
CALSCALE:GREGORIAN
BEGIN:VEVENT
UID:8f69669bc2e65dae9fca33906f476ace
DTSTAMP:20260424T085625Z
SUMMARY:Creating a Caring Community Together
DESCRIPTION:Jewish Federation of West-Central New Jersey\nCommunity Calenda
 r\nhttps://jfedwcnj.org/calendar/creating-a-caring-community-together-1439
 482132\n\nThe Joint Chaplaincy Committee\, Wilf Campus for Senior Living\,
  Jewish Family Service of Somerset\, Warren\, and Hunterdon Counties\, and
  Atlantic Health System proudly offer: CREATING A CARING COMMUNITY TOGETHE
 RPurpose of Course: Our goal is to provide training for faith community la
 y leaders and non-clergy professionals to enable them to be present for co
 ngregational and community members who would welcome and benefit from addi
 tional spiritual and emotional support during difficult times. These...
DTSTART;TZID=America/New_York:20151022T100000
DTEND;TZID=America/New_York:20151022T143000
END:VEVENT
END:VCALENDAR
