BEGIN:VCALENDAR
PRODID:-//eluceo/ical//2.0/EN
VERSION:2.0
CALSCALE:GREGORIAN
BEGIN:VEVENT
UID:156ce27a6618223e48d9b360108912c5
DTSTAMP:20260423T204637Z
SUMMARY:Create Holiday Cards for U.S. & Israeli Soldiers
DESCRIPTION:Jewish Federation of West-Central New Jersey\nCommunity Calenda
 r\nhttps://jfedwcnj.org/calendar/create-holiday-cards-for-us-israeli-soldi
 ers\n\nBring your family and make holiday cards for U.S. & Israeli Soldier
 s! We will have a card making station at the front lobby of the JCC.\n\nOp
 en and free to the community! A part of the Super Week events leading up t
 o Super Sunday\, December 3! Please Register online!\n\n \n\nJ-Crew kids 
 & families will have their own separate card making station and activities
 .\n\n 
DTSTART;TZID=America/New_York:20171127T160000
DTEND;TZID=America/New_York:20171127T180000
END:VEVENT
END:VCALENDAR
