BEGIN:VCALENDAR
PRODID:-//eluceo/ical//2.0/EN
VERSION:2.0
CALSCALE:GREGORIAN
BEGIN:VEVENT
UID:31e609bf6135c7033bc5d09aa93b9e1a
DTSTAMP:20260422T184300Z
SUMMARY:The Battle for Israel's Soul - A Post-Election Debate
DESCRIPTION:Jewish Federation of West-Central New Jersey\nCommunity Calenda
 r\nhttps://jfedwcnj.org/calendar/crc-debate-1474465231\n\n
DTSTART;TZID=America/New_York:20161215T190000
DTEND;TZID=America/New_York:20161215T210000
END:VEVENT
END:VCALENDAR
