BEGIN:VCALENDAR
PRODID:-//eluceo/ical//2.0/EN
VERSION:2.0
CALSCALE:GREGORIAN
BEGIN:VEVENT
UID:ca7e18801b5d60ede5e7d1e6bc121070
DTSTAMP:20260424T164321Z
SUMMARY:Coping with Caregiver Stress (Webinar)
DESCRIPTION:Jewish Federation of West-Central New Jersey\nCommunity Calenda
 r\nhttps://jfedwcnj.org/calendar/coping-with-caregiver-stress-webinar-1615
 905766\n\nJoin us for a free webinar presented by Alzheimer's New Jersey!\
 n\nCaring for a person with Alzheimer’s disease or other form of dementi
 a can be a very overwhelming experience. Often\, caregivers neglect their 
 own well-being because they devote so much time to the responsibilities of
  day-to-day caregiving. This program examines caregiver stress and offers 
 coping strategies to become a healthier caregiver.\n\nProgram will be pres
 ented by Juliana Leach\, MSW.\n\nProgram is free but participants...
DTSTART;TZID=America/New_York:20210414T130000
DTEND;TZID=America/New_York:20210414T140000
END:VEVENT
END:VCALENDAR
