BEGIN:VCALENDAR
PRODID:-//eluceo/ical//2.0/EN
VERSION:2.0
CALSCALE:GREGORIAN
BEGIN:VEVENT
UID:744a36f731becd219817ef84caff9f46
DTSTAMP:20260422T225845Z
SUMMARY:Cooking with Osi at Temple Har Shalom
DESCRIPTION:Jewish Federation of West-Central New Jersey\nCommunity Calenda
 r\nhttps://jfedwcnj.org/calendar/cooking-with-osi-at-temple-har-shalom-146
 1603525\n\nTemple Har Shalom is pleased to be hosting Osi Lankri the Renow
 ned Israeli caterer from the Negev! Osi will be leading a culinary kosher 
 workshop - Cozy Cooking at Home - on Monday\, May 9th from 11:00am - 1:30p
 m. You will participate in and learn how to cook as well as enjoy your lun
 ch afterwards. The cost for this workshop is $65 per person and proceeds f
 rom this event will be invested in the Jewish Federation of Greater Metrow
 ests&#039\;s partnership in Ofakim in the Negev. To reserve a spot\,...
DTSTART;TZID=America/New_York:20160509T110000
DTEND;TZID=America/New_York:20160509T133000
END:VEVENT
END:VCALENDAR
