BEGIN:VCALENDAR
PRODID:-//eluceo/ical//2.0/EN
VERSION:2.0
CALSCALE:GREGORIAN
BEGIN:VEVENT
UID:4224c4d4cc254cbfd67066694dce0710
DTSTAMP:20260420T170159Z
SUMMARY:Conversation with State Senator Kip Bateman
DESCRIPTION:Jewish Federation of West-Central New Jersey\nCommunity Calenda
 r\nhttps://jfedwcnj.org/calendar/conversation-with-state-senator-kip-batem
 an-1618263824\n\nDon't miss this evening of virtual conversation with Stat
 e Senator Kip Bateman\, sponsored by TBE\, in conjunction with RAC-NJ.\n\n
 Senator Bateman\, a longtime friend of Temple Beth-El\, represents our mem
 bers in District 16. Join us to hear about his journey in public service\,
  legislative priorities\, and reflections on what he has gained from his t
 ime in office as he prepares to retire at the end of this term.\n\nRegistr
 ation at: https://tinyurl.com/ConversationWithSenatorBateman
DTSTART;TZID=America/New_York:20210420T190000
DTEND;TZID=America/New_York:20210420T200000
END:VEVENT
END:VCALENDAR
