BEGIN:VCALENDAR
PRODID:-//eluceo/ical//2.0/EN
VERSION:2.0
CALSCALE:GREGORIAN
BEGIN:VEVENT
UID:06aa1800f405d442e1f76b991c906289
DTSTAMP:20260422T105649Z
SUMMARY:Congressional Candidates Forum 2018
DESCRIPTION:Jewish Federation of West-Central New Jersey\nCommunity Calenda
 r\nhttps://jfedwcnj.org/calendar/congressional-candidates-forum-2018-15361
 59927\n\nVoters are going to the polls on Tuesday\, November 6\, 2018 in o
 ne of the two most closely watched races in mid-term elections. Come here 
 where the candidates of the 7th Congressional District stand on issues aff
 ection our country\, our Jewish community\, and the State of Israel. BE AN
  INFORMED VOTER!This program is free and open to the public.
DTSTART;TZID=America/New_York:20181008T193000
DTEND;TZID=America/New_York:20181008T213000
END:VEVENT
END:VCALENDAR
