BEGIN:VCALENDAR
PRODID:-//eluceo/ical//2.0/EN
VERSION:2.0
CALSCALE:GREGORIAN
BEGIN:VEVENT
UID:9a564cc8961e283e824473f90dfd12ad
DTSTAMP:20260424T062856Z
SUMMARY:Congregation B'nai Israel presents Game Night!
DESCRIPTION:Jewish Federation of West-Central New Jersey\nCommunity Calenda
 r\nhttps://jfedwcnj.org/calendar/congregation-bnai-israel-presents-game-ni
 ght-1421965112\n\nJoin the CBI Basking Ridge community as we play poker\, 
 mah jongg\, Scrabble\, Monopoly--you name it\, we're playing it! Details w
 ill be coming soon for sign up\, admission\, and fun!
DTSTART;TZID=America/New_York:20150321T193000
DTEND;TZID=America/New_York:20150321T230000
END:VEVENT
END:VCALENDAR
