BEGIN:VCALENDAR
PRODID:-//eluceo/ical//2.0/EN
VERSION:2.0
CALSCALE:GREGORIAN
BEGIN:VEVENT
UID:f7ea40dc28c5dff87babbc6d4f5431af
DTSTAMP:20260423T053535Z
SUMMARY:Congregation B'nai Israel Annual Coffee House
DESCRIPTION:Jewish Federation of West-Central New Jersey\nCommunity Calenda
 r\nhttps://jfedwcnj.org/calendar/congregation-bnai-israel-annual-coffee-ho
 use-1703175368\n\nCantors Brian Kalver\, Sharon Knoller and Lois Kittner s
 inging whatever they want to sing\, Piano-Man Dave Schlossberg\, CBI’s r
 ocking House Band and a few special guests.\nSnacks and beverages provided
 .\nTickets: $25 per person
DTSTART;TZID=America/New_York:20240113T200000
DTEND;TZID=America/New_York:20240113T220000
END:VEVENT
END:VCALENDAR
