BEGIN:VCALENDAR
PRODID:-//eluceo/ical//2.0/EN
VERSION:2.0
CALSCALE:GREGORIAN
BEGIN:VEVENT
UID:6cacec25f27e1935f5420b1acf6b096f
DTSTAMP:20260423T084618Z
SUMMARY:Confronting Genocide: Never Again Seminar
DESCRIPTION:Jewish Federation of West-Central New Jersey\nCommunity Calenda
 r\nhttps://jfedwcnj.org/calendar/confronting-genocide-never-again-seminar-
 1519318735\n\nThe Raritan Valley Community College Institute for Holocaust
  and Genocide Studies invites you to an interactive workshop by Mimi Steph
 ens\, Professional Development Director for Choices Program. Mimi will pre
 sent Confronting Genocide: Never Again\, a curriculum unit produced by the
  Choices Program at Brown University. We will discuss the Genocide Convent
 ion and consider the challenges of defining "genocide." Participants will 
 apply the standards of the Genocide Convention to five historical cas...
DTSTART;TZID=America/New_York:20180409T160000
DTEND;TZID=America/New_York:20180409T193000
END:VEVENT
END:VCALENDAR
