BEGIN:VCALENDAR
PRODID:-//eluceo/ical//2.0/EN
VERSION:2.0
CALSCALE:GREGORIAN
BEGIN:VEVENT
UID:154e135bc67f577160f47824d247e60d
DTSTAMP:20260422T153327Z
SUMMARY:How Saba Kept Singing - Community Wide Yom HaShoah Observance
DESCRIPTION:Jewish Federation of West-Central New Jersey\nCommunity Calenda
 r\nhttps://jfedwcnj.org/calendar/community-wide-yom-hashoah-observance-202
 5\n\nCommunity-Wide Yom HaShoah Observance\n\nJoin us for a powerful and m
 oving Yom HaShoah (Holocaust Remembrance Day) Observance\, honoring the re
 silience and legacy of Holocaust survivors. This special event will featur
 e a screening of the acclaimed documentary How Saba Kept Singing\, follow
 ed by an insightful Q&A with Avi Wisnia\, grandson of the film’s subject
 .\n\nAvi Wisnia will share personal reflections and perform one of his gra
 ndfather’s cherished songs\, ensuring that the memory and mu...
DTSTART;TZID=America/New_York:20250410T190000
DTEND;TZID=America/New_York:20250410T210000
END:VEVENT
END:VCALENDAR
