BEGIN:VCALENDAR
PRODID:-//eluceo/ical//2.0/EN
VERSION:2.0
CALSCALE:GREGORIAN
BEGIN:VEVENT
UID:cc67de79660543b4506628df50835dea
DTSTAMP:20260422T144514Z
SUMMARY:Community Wide Yom Hashoah Observance
DESCRIPTION:Jewish Federation of West-Central New Jersey\nCommunity Calenda
 r\nhttps://jfedwcnj.org/calendar/community-wide-yom-hashoah-observance\n\n
 Annual Community-Wide Yom Hashoah Observation \n\nthe evening will feture
  survivor testimonies 
DTSTART;TZID=America/New_York:20190502T190000
DTEND;TZID=America/New_York:20190502T210000
END:VEVENT
END:VCALENDAR
