BEGIN:VCALENDAR
PRODID:-//eluceo/ical//2.0/EN
VERSION:2.0
CALSCALE:GREGORIAN
BEGIN:VEVENT
UID:5f3476fc23ed84d9dcc6669b4dd6a506
DTSTAMP:20260422T123345Z
SUMMARY:Community Wide Yom HaShoah  commemoration
DESCRIPTION:Jewish Federation of West-Central New Jersey\nCommunity Calenda
 r\nhttps://jfedwcnj.org/calendar/community-wide-yom-hashoah-co\n\nAnnual C
 ommunity-Wide Yom HaShoah Memorial Service and Candle Lighting\n\nTuesday\
 , April 18 \n7:00 PM\n\n\nHosted by:\nCongregation Knesseth Israel 229 Mo
 untain Ave.\, Bound Brook\nFree to the community.\n\n \n\nGuest Speakers 
 Mark Schonwetter\,\nHolocaust Survivor and his daugher\, Isabella Fiske.\n
 \n \n\nMark Schonwetter was a young child in Brzostek\, Poland when Germa
 ny invaded and his family was forced out of their home. After his father w
 as taken by the Gestapo\, Mark fled along with his ...
DTSTART;TZID=America/New_York:20230418T190000
DTEND;TZID=America/New_York:20230418T210000
END:VEVENT
END:VCALENDAR
