BEGIN:VCALENDAR
PRODID:-//eluceo/ical//2.0/EN
VERSION:2.0
CALSCALE:GREGORIAN
BEGIN:VEVENT
UID:867ccaff7ba591570f9b36c88433d51f
DTSTAMP:20260422T234725Z
SUMMARY:Community- Wide Yom HaShoah Observance
DESCRIPTION:Jewish Federation of West-Central New Jersey\nCommunity Calenda
 r\nhttps://jfedwcnj.org/calendar/community-wide-yom-hashoah\n\nSave the da
 te for our community wide Yom HaShoah Observance 
DTSTART;TZID=America/New_York:20240505T000000
DTEND;TZID=America/New_York:20240505T210000
END:VEVENT
END:VCALENDAR
