BEGIN:VCALENDAR
PRODID:-//eluceo/ical//2.0/EN
VERSION:2.0
CALSCALE:GREGORIAN
BEGIN:VEVENT
UID:30e19ae62fca258dfa1c606a02248b2e
DTSTAMP:20260424T125201Z
SUMMARY:Community-Wide Yom Ha'atzmaut Celebration
DESCRIPTION:Jewish Federation of West-Central New Jersey\nCommunity Calenda
 r\nhttps://jfedwcnj.org/calendar/community-wide-yom-haatzmaut-celebration\
 n\n Admission: $10/ Family\n\nMarking 70 Years of the State of Israel\n
 \nMUSIC • WINE TASTING • ISRAELI DANCING • OUTDOOR GAMES • INFLATA
 BLES • FIRE PIT & PITA MAKING • LOCAL CHOIRS • ISRAELI VENDORS • 
 ISRAEL BOOT CAMP • CRAFT BOOTHS • MITZVAH PROJECT • MINI ZIP LINE \
 n\nFood available for purchase. More info to come.
DTSTART;TZID=America/New_York:20180422T153000
DTEND;TZID=America/New_York:20180422T183000
END:VEVENT
END:VCALENDAR
